BEGIN:VCALENDAR
VERSION:2.0
PRODID:-//TAOBIKE - ALQUILER BICICLETAS ELÉCTRICAS - BENIDORM - ECPv6.15.18//NONSGML v1.0//EN
CALSCALE:GREGORIAN
METHOD:PUBLISH
X-WR-CALNAME:TAOBIKE - ALQUILER BICICLETAS ELÉCTRICAS - BENIDORM
X-ORIGINAL-URL:https://taobike.es
X-WR-CALDESC:Eventos para TAOBIKE - ALQUILER BICICLETAS ELÉCTRICAS - BENIDORM
REFRESH-INTERVAL;VALUE=DURATION:PT1H
X-Robots-Tag:noindex
X-PUBLISHED-TTL:PT1H
BEGIN:VTIMEZONE
TZID:Europe/Paris
BEGIN:DAYLIGHT
TZOFFSETFROM:+0100
TZOFFSETTO:+0200
TZNAME:CEST
DTSTART:20140330T010000
END:DAYLIGHT
BEGIN:STANDARD
TZOFFSETFROM:+0200
TZOFFSETTO:+0100
TZNAME:CET
DTSTART:20141026T010000
END:STANDARD
BEGIN:DAYLIGHT
TZOFFSETFROM:+0100
TZOFFSETTO:+0200
TZNAME:CEST
DTSTART:20150329T010000
END:DAYLIGHT
BEGIN:STANDARD
TZOFFSETFROM:+0200
TZOFFSETTO:+0100
TZNAME:CET
DTSTART:20151025T010000
END:STANDARD
BEGIN:DAYLIGHT
TZOFFSETFROM:+0100
TZOFFSETTO:+0200
TZNAME:CEST
DTSTART:20160327T010000
END:DAYLIGHT
BEGIN:STANDARD
TZOFFSETFROM:+0200
TZOFFSETTO:+0100
TZNAME:CET
DTSTART:20161030T010000
END:STANDARD
END:VTIMEZONE
BEGIN:VEVENT
DTSTART;TZID=Europe/Paris:20150829T200000
DTEND;TZID=Europe/Paris:20150829T235500
DTSTAMP:20260423T063604
CREATED:20150810T075031Z
LAST-MODIFIED:20160712T083529Z
UID:329-1440878400-1440892500@taobike.es
SUMMARY:III Ruta Nocturna TAO BIKE. Hombres Lobo de Benidorm al Faro del Albir
DESCRIPTION:¿Qué haces el Sábado 29 de Agosto? Vente de ruta nocturna Tao Bike por #Benidorm! y conoce gente bajo la #lunallena \nIII Ruta Nocturna TAO Bike\nEl Sábado por la tarde nos reuniremos con todos los amigos que quieran disfrutar de un atardecer diferente en Benidorm y aprovechando la #LunaLlena hacer una rutita por Sierra Helada y llegando hasta el Fao del Albir pudiendo disfrutar de las espectaculares vistas.\nTodos los vehículos con cero emisiones son bienvenidos\, si no tienes el tuyo propio puedes alquilar unas de nuestras TAO BIKE por 7€ para la salida.\nPunto de reunión “Tao Bike” Avda. Mediterráneo 62 a las 20:00 para salir en grupo a las 20:30.\nLa hora aproximada para que de comienzo la puesta de sol son las 20:33 por lo llegaremos perfectos para ver cómo se esconde el sol. \nPásate y pregúntanos…No hace falta inscribirse\, sólo tienes que tener ganas de pasar un buen rato.\nRecomendable traer un frontal si tu bicicleta/patín/otros no lleva faro. \nY recuerda que de ahora en adelante puedes unirte al equipo de “hombreslobo” en Ruta Nocturna Tao Bike porque no vamos a perdernos una sóla luna llena. \nTambién puedes suscribirte a esta sección de EVENTOS para que te aparezca en tu calendario las próximas quedadas y salidas.
URL:https://taobike.es/event/iii-ruta-nocturna-tao-bike-hombres-lobo-de-benidorm-al-faro-del-albir/
LOCATION:TAO BIKE\, Avenida Mediterráneo\, 62\, Benidorm\, Alicante\, 03505\, España
CATEGORIES:Ruta Nocturna TAO Bike
ORGANIZER;CN="TAO BIKE":MAILTO:hola@taobike.es
END:VEVENT
BEGIN:VEVENT
DTSTART;TZID=Europe/Paris:20150702T200000
DTEND;TZID=Europe/Paris:20150702T230000
DTSTAMP:20260423T063604
CREATED:20150720T062407Z
LAST-MODIFIED:20160712T084429Z
UID:175-1435867200-1435878000@taobike.es
SUMMARY:Ruta nocturna por Benidorm
DESCRIPTION:¿Qué haces el jueves? Vente de ruta nocturna por Benidorm! Gratis\, 0% emisiones y conoce gente bajo la #lunallena \nRuta Nocturna por Benidorm\nEl jueves por la tarde nos reuniremos con todos los amigos que quieran disfrutar de un atardecer diferente en Benidorm y aprovechando la #LunaLlena hacer una rutita por Sierra Helada.\nTodos los vehículos con cero emisiones son bienvenidos. \nPásate y pregúntanos…No hace falta inscribirse\, te costará cero euros y sólo tienes que tener ganas de pasar un buen rato.\nRecomendable traer un frontal si tu bicicleta/patín/otros no lleva faro. \nY recuerda que de ahora en adelante puedes unirte al equipo de “hombreslobo” de Tao Bike porque no vamos a perdernos una sóla luna llena.
URL:https://taobike.es/event/hombres-lobo/
LOCATION:TAO BIKE\, Avenida Mediterráneo\, 62\, Benidorm\, Alicante\, 03505\, España
CATEGORIES:Ruta Nocturna TAO Bike
ORGANIZER;CN="TAO BIKE":MAILTO:hola@taobike.es
END:VEVENT
BEGIN:VEVENT
DTSTART;TZID=Europe/Paris:20150620T180000
DTEND;TZID=Europe/Paris:20150620T220000
DTSTAMP:20260423T063604
CREATED:20150720T062818Z
LAST-MODIFIED:20160712T084100Z
UID:177-1434823200-1434837600@taobike.es
SUMMARY:Inauguración TAO Bike
DESCRIPTION:Estamos emocionados! Llegó el día de la inauguración. Por fin abre sus puertas TAO Bike \nInauguración TAO Bike\nY no puedes perdértela porque habrá buen ambiente\,bicicletas eléctricas\, picaeta diferente muy rica y sana y VALES GRATIS para probar nuestras superbicis el día que te apetezca y con quién te apetezca!\n¿Qué más se puede pedir? \nQueremos que vengas\, nos conozcas\, descubras nuestro proyecto sostenible y pases un buen rato. \nVen a vernos\, ya sea sólo\, con amigos\, con familia\, con tu mascota o con quien tú quieras…\nEs más\, ayúdanos a difundir el evento y compártelo entre tus conocidos. \nNos vemos el sábado!
URL:https://taobike.es/event/inauguracion-tao-bike/
LOCATION:TAO BIKE\, Avenida Mediterráneo\, 62\, Benidorm\, Alicante\, 03505\, España
CATEGORIES:Qué Hacer en Benidorm
ORGANIZER;CN="TAO BIKE":MAILTO:hola@taobike.es
END:VEVENT
END:VCALENDAR